BEGIN:VCALENDAR
VERSION:2.0
PRODID:Imitheme.com 
BEGIN:VEVENT
UID:20260425T194230485846064
DTSTAMP;TZID=UTC:2026-04-25 19:42:30
DTSTART;TZID=America/Los_Angeles:20260425T194230
DTEND;TZID=America/Los_Angeles:20260425T194230
SUMMARY:Reuniones de seguimiento
LOCATION:
DESCRIPTION:Reunión de seguimiento con familias. El propósito es generar un espacio de diálogo para indagar cómo se sienten estudiantes y familia en Preludio y dar nuestras percepciones en el desarrollo de sus habilidades.
URL:https://preludio.com.co/eventer/reuniones-de-seguimiento/
END:VEVENT
END:VCALENDAR
