BEGIN:VCALENDAR
VERSION:2.0
PRODID:Imitheme.com 
BEGIN:VEVENT
UID:20260425T1941222119695023
DTSTAMP;TZID=UTC:2026-04-25 19:41:22
DTSTART;TZID=America/Los_Angeles:20260425T194122
DTEND;TZID=America/Los_Angeles:20260425T194122
SUMMARY:Día de juegos
LOCATION:
DESCRIPTION:Una vez al mes las casas de Terra Mystica, Agrícola, Caylus y Puerto Rico participan en una jornada totalmente lúdica, con algunos juegos competitivos y otros cooperativos para seguir desarrollando sus distintas habilidades.
URL:https://preludio.com.co/eventer/dia-de-juegos-2/
END:VEVENT
END:VCALENDAR
