BEGIN:VCALENDAR
VERSION:2.0
PRODID:Imitheme.com 
BEGIN:VEVENT
UID:20260425T211209514133427
DTSTAMP;TZID=UTC:2026-04-25 21:12:09
DTSTART;TZID=America/Los_Angeles:20260425T211209
DTEND;TZID=America/Los_Angeles:20260425T211209
SUMMARY:Pijamada en Preludio
LOCATION:
DESCRIPTION:Jornada de integración para los grupos de junior y crack a través de actividades de trabajo en equipo y liderazco.
URL:https://preludio.com.co/eventer/pijamada-en-preludio/
END:VEVENT
END:VCALENDAR
