BEGIN:VCALENDAR
VERSION:2.0
PRODID:Imitheme.com 
BEGIN:VEVENT
UID:20260425T19434221993142
DTSTAMP;TZID=UTC:2026-04-25 19:43:42
DTSTART;TZID=America/Los_Angeles:20260425T194342
DTEND;TZID=America/Los_Angeles:20260425T194342
SUMMARY:Envío de formulario Cubes in Space
LOCATION:
DESCRIPTION:Iedu, en alianza con la Nasa, organiza un programa anual a través del cual, estudiantes y grupos de investigación de colegios, proponen experimentos para ser lanzados al espacio en un cohete o en un globo. Preludio participará con dos grupos de investigación que propondrán dos experimentos para viajar al espacio: Experimento 1: Si enviamos un dispositivo anticonceptivo subdérmico en un globo al espacio entonces, la hormona Levonorgestrel presente en el implante se verá afectada por los altos niveles de radiación de la termosfera. Esto teniendo en cuenta que las hormonas poseen una composición química determinada y los altos niveles de radiación presentes durante el viaje podrían alterarla. Experimento 2: Si sometemos un armonógrafo a las fuerzas g en un cohete, entonces dibujará diferentes curvas de Lissajous durante el despegue, la microgravedad y el despliegue del paracaídas porque en cada una de las etapas la fuerza g varía y afecta de manera diferente a los péndulos que componen el armonógrafo.
URL:https://preludio.com.co/eventer/envio-de-formulario-cubes-in-space/
END:VEVENT
END:VCALENDAR
