BEGIN:VCALENDAR
VERSION:2.0
PRODID:Imitheme.com 
BEGIN:VEVENT
UID:20260425T2109182110368989
DTSTAMP;TZID=UTC:2026-04-25 21:09:18
DTSTART;TZID=America/Los_Angeles:20260425T210918
DTEND;TZID=America/Los_Angeles:20260425T210918
SUMMARY:Jornadas de inducción
LOCATION:
DESCRIPTION:
URL:https://preludio.com.co/eventer/nombre-del-evento/
END:VEVENT
END:VCALENDAR
