BEGIN:VCALENDAR
VERSION:2.0
PRODID:Imitheme.com 
BEGIN:VEVENT
UID:20260425T2110161653618310
DTSTAMP;TZID=UTC:2026-04-25 21:10:16
DTSTART;TZID=America/Los_Angeles:20260425T211016
DTEND;TZID=America/Los_Angeles:20260425T211016
SUMMARY:Reunión de bienvenida con familias
LOCATION:
DESCRIPTION:
URL:https://preludio.com.co/eventer/evento-2/
END:VEVENT
END:VCALENDAR
