BEGIN:VCALENDAR
VERSION:2.0
PRODID:Imitheme.com 
BEGIN:VEVENT
UID:20260425T194306775418330
DTSTAMP;TZID=UTC:2026-04-25 19:43:06
DTSTART;TZID=America/Los_Angeles:20260425T194306
DTEND;TZID=America/Los_Angeles:20260425T194306
SUMMARY:Regreso a clases
LOCATION:
DESCRIPTION:
URL:https://preludio.com.co/eventer/regreso-a-clases/
END:VEVENT
END:VCALENDAR
