BEGIN:VCALENDAR
VERSION:2.0
PRODID:Imitheme.com 
BEGIN:VEVENT
UID:20260425T194358329876553
DTSTAMP;TZID=UTC:2026-04-25 19:43:58
DTSTART;TZID=America/Los_Angeles:20260425T194358
DTEND;TZID=America/Los_Angeles:20260425T194358
SUMMARY:Space fest
LOCATION:
DESCRIPTION:¡Este año también clasificamos a un concurso de la NASA! Después de mucho trabajar e investigar logramos construir un carro propulsado por fuerza humana, emulando los rovers de exploración que van a la luna y a marte. Este sábado 16 de marzo compartiremos con la comunidad los hallazgos que hemos hecho, organizando actividades en las que pueden replicar en corto tiempo los obstáculos a los que nos hemos tenido que enfrentar. Habrá almuerzo, concierto y muchas actividades con premios. ¡Los esperamos!
URL:https://preludio.com.co/eventer/space-fest/
END:VEVENT
END:VCALENDAR
